BEGIN:VCALENDAR
VERSION:2.0
CALSCALE:GREGORIAN
PRODID:-//MyApp//Calendar 1.0//EN
BEGIN:VEVENT
METHOD:PUBLISH
UID:40448@regionalniportaly.cz
DTSTAMP:20260422T054505Z
DTSTART;VALUE=DATE:20240511
DTEND;VALUE=DATE:20240512
SUMMARY:Konflikt
DESCRIPTION:Asi nejznámější slovenský punkrock band a jako support&nbsp\;Hrubý domáci produkt.Lokální předskokani z kapely Hlavní jistič předvedou i nového zpěváka !Kapela odohrala už vyše 2000 koncertov po celej Európe na jednom pódiu(tesne pred\, tesne po) s takými svetoznámymi&nbsp\;skupinami ako napr: Iron Maiden\, Slayer\, Sex Pistols\, Soulfly\, The Offspring\, Die Toten Hosen\, Misfits\, Toy Dolls\, Cavalera Conspiracy\, Nazareth\, Alice in Chains\, UK Subs\, G.B.H.\, Craddle of Filth\, Limp Bizkit\, Ska-P\, Lordi\, Chris Norman(Smokie) The Exploited\, 30 Seconds to Mars\, Napalm Death…atď.Víťaz Aurela 2006(Slovak Grammy) za najlepší album v žánrovej kategórii HARD/HEAVY/PUNK-ROCK\, 33 ročná Slovenská punková legenda KONFLIKT!
LOCATION:Uherské Hradiště
END:VEVENT
END:VCALENDAR