BEGIN:VCALENDAR
VERSION:2.0
CALSCALE:GREGORIAN
PRODID:-//MyApp//Calendar 1.0//EN
BEGIN:VEVENT
METHOD:PUBLISH
UID:40449@regionalniportaly.cz
DTSTAMP:20260425T035923Z
DTSTART;VALUE=DATE:20241122
DTEND;VALUE=DATE:20241123
SUMMARY:KAFKA BAND
DESCRIPTION:Kulturní událost klubového podzimu a kapela složená z muzikantů zvučných jmen zpracovala do audiovizuální podoby již dvě knihy Franze Kafky. Po úspěšném Zámku přišla na řadu elektroničtější Amerika. Tu Kafka Band nejdříve zhudebnil v divadle v německých Brémách\, aby ji pak přepracoval do česko-německo-anglické koncertní podoby. S oběma programy Kafka Band objel řadu evropských pódií. Kapela ve složení spisovatel a zpěvák Jaroslav Rudiš\, výtvarník a zpěvák Jaromír Švejdík\, muzikanti Dušan Neuwerth\, Tomáš Neuwerth\, Lukáš Morávek\, Zdeněk Jurčík\, Petr Weiser aktuálně koncertuje s novým programem.
LOCATION:Uherské Hradiště
END:VEVENT
END:VCALENDAR