BEGIN:VCALENDAR
VERSION:2.0
CALSCALE:GREGORIAN
PRODID:-//MyApp//Calendar 1.0//EN
BEGIN:VEVENT
METHOD:PUBLISH
UID:40450@regionalniportaly.cz
DTSTAMP:20260422T085029Z
DTSTART;VALUE=DATE:20240504
DTEND;VALUE=DATE:20240505
SUMMARY:Výstava vín
DESCRIPTION:Klub vinařů Svatobořice-Mistřín ve spolupráci s Vinařstvím Dufek Vás zvou k neomezené ochutnávce vín drobných vinařů a profesionálních vinařství z celé České republiky: Vinařství Dufek\, Vinařství u Šťastných\, Zámecké vinařství Bzenec\, B/V vinařství\, Vinařství Štěpán Maňák\, Metroflora\, Vinné sklepy Skalák\, Vinařství Valihrach\, Vinařství Spilberg a další ...Penzion Svatoborský sklípek si pro Vás připraví bohaté pohoštění a výběr francouzských sýrů.K dobré náladě Vám zahraje Varmužova cimbálová muzika.Těší se na Vás pořadatelé.
LOCATION:Svatobořice-Mistřín
END:VEVENT
END:VCALENDAR