BEGIN:VCALENDAR
VERSION:2.0
CALSCALE:GREGORIAN
PRODID:-//MyApp//Calendar 1.0//EN
BEGIN:VEVENT
METHOD:PUBLISH
UID:40561@regionalniportaly.cz
DTSTAMP:20260422T085350Z
DTSTART;VALUE=DATE:20240330
DTEND;VALUE=DATE:20240331
SUMMARY:DJ Boris DISCO - Mikulčice
DESCRIPTION:Legendární akce DJ Boris&nbsp\;poprvé v Mikulčicích&nbsp\;Koná se o Velikonočním víkendu v sobotu 30. března 2024 od 20:00 hod. v Kulturním domě Mikulčice&nbsp\;Po celou noc hity současné i minulé v originálních nezremixovaných verzích\, které zaručeně znáte a které Vám jinde nezahrají&nbsp\;Hudba různých žánrů - DISCO\, POP\, ROCK\, ČESKÉ a SLOVENSKÉ\, OSMDESÁTKY\, DEVADESÁTKY\, OLDIES...Zajištěno bohaté občerstvení včetně točeného piva a míchaných drinků.Kvalitní zvuk a světla\, laser show.Na Vaši bezpečnost bude dohlížet profesionální security služba.Otevřeno od 20:00 hod.Minimální věkový limit pro vstup: 16 let
LOCATION:Mikulčice
END:VEVENT
END:VCALENDAR