BEGIN:VCALENDAR
VERSION:2.0
CALSCALE:GREGORIAN
PRODID:-//MyApp//Calendar 1.0//EN
BEGIN:VEVENT
METHOD:PUBLISH
UID:40569@regionalniportaly.cz
DTSTAMP:20260422T023742Z
DTSTART;VALUE=DATE:20240419
DTEND;VALUE=DATE:20240420
SUMMARY:DnB RAVE
DESCRIPTION:První akce zaměřená celý večer na DNB\, od startu až do konce. LASER\, CRYO\, 4 DJS z HOOFBEATS MUSIC!!SYMPLEX / APOKAIN / JOSHU4 / LEDUYSLEDUYSupport: tba..&nbsp\;Vstup 16+&nbsp\;www.no6.cz&nbsp\;Happy hour na lodě a maxi drinky do 23:59&nbsp\;Rezervace stolů na čísle 731 108 781
LOCATION:Uherské Hradiště
END:VEVENT
END:VCALENDAR