BEGIN:VCALENDAR
VERSION:2.0
CALSCALE:GREGORIAN
PRODID:-//MyApp//Calendar 1.0//EN
BEGIN:VEVENT
METHOD:PUBLISH
UID:40570@regionalniportaly.cz
DTSTAMP:20260422T072458Z
DTSTART;VALUE=DATE:20240430
DTEND;VALUE=DATE:20240501
SUMMARY:ROHONY
DESCRIPTION:Rohony spojil rap s taneční hudbou. Jeho texty zná každý club. Jeho hudba vnáší do rapu zvuk hospod\, techna a kulturáků. Díky tomuto propojení si Rohony vytvořil vlastní žánr.&nbsp\;
LOCATION:Uherské Hradiště
END:VEVENT
END:VCALENDAR