BEGIN:VCALENDAR
VERSION:2.0
CALSCALE:GREGORIAN
PRODID:-//MyApp//Calendar 1.0//EN
BEGIN:VEVENT
METHOD:PUBLISH
UID:40714@regionalniportaly.cz
DTSTAMP:20260424T200723Z
DTSTART;VALUE=DATE:20241025
DTEND;VALUE=DATE:20241026
SUMMARY:HORROR IN TOWN
DESCRIPTION:Špička českého horror coru opět v Uherském Hradišti! To je Sodoma Gomora! A jako bonus s nimi přijede i další člen ZNK - Haades. Tihle chlapi vám přijedou naložit pořádnou porci zvráceného rapu spolu s Elektrickým Pánem 25.10. na Klub Mír!A nebude chybět ani after párty&nbsp\;Od 15.3. v předprodeji na SMS ticket.
LOCATION:Uherské Hradiště
END:VEVENT
END:VCALENDAR