BEGIN:VCALENDAR
VERSION:2.0
CALSCALE:GREGORIAN
PRODID:-//MyApp//Calendar 1.0//EN
BEGIN:VEVENT
METHOD:PUBLISH
UID:40913@regionalniportaly.cz
DTSTAMP:20260422T101547Z
DTSTART;VALUE=DATE:20240518
DTEND;VALUE=DATE:20240519
SUMMARY:Jarní otvírání sklepů v Šardicích
DESCRIPTION:Čtvrtý ročník vinařské akce\, která navazuje na tradiční letní otevřené sklepy a umožní návštěvu nejen těm milovníkům vína\, jimž letní termín nevyhovuje\, ale i všem ostatním\, kteří mají rádi dobrá moravská vína.&nbsp\;
LOCATION:Šardice
END:VEVENT
END:VCALENDAR