BEGIN:VCALENDAR
VERSION:2.0
CALSCALE:GREGORIAN
PRODID:-//MyApp//Calendar 1.0//EN
BEGIN:VEVENT
METHOD:PUBLISH
UID:40982@regionalniportaly.cz
DTSTAMP:20260422T072751Z
DTSTART;VALUE=DATE:20240427
DTEND;VALUE=DATE:20240428
SUMMARY:Helmutova stříkačka & Lambblood
DESCRIPTION:lambblood.bandcamp.com/https://www.helmutovastrikacka.cz/o-nas/&nbsp\;&nbsp\;&nbsp\;
LOCATION:Uherské Hradiště
END:VEVENT
END:VCALENDAR