BEGIN:VCALENDAR
VERSION:2.0
CALSCALE:GREGORIAN
PRODID:-//MyApp//Calendar 1.0//EN
BEGIN:VEVENT
METHOD:PUBLISH
UID:41292@regionalniportaly.cz
DTSTAMP:20260424T190049Z
DTSTART;VALUE=DATE:20241005
DTEND;VALUE=DATE:20241006
SUMMARY:Necrotted\, Cutterred Flesh\, Isacaarum\, Ingrowing
DESCRIPTION:Křest nových desek kapel Cutterred Flesh a Isacaarum. Jako hlavní host vystoupí Necrotted z Německa. S novým materiálem se představí také Ingrowing. A můžete se těšit také na Anime Torment.Vstupné 350 Kč.Program19:00 - Anime Torment20:00 - Ingrowing21:00 - Isacaarum - křest desky22:00 - Cutterred Flesh - křest desky23:00 - Necrotted
LOCATION:Uherské Hradiště
END:VEVENT
END:VCALENDAR