BEGIN:VCALENDAR
VERSION:2.0
CALSCALE:GREGORIAN
PRODID:-//MyApp//Calendar 1.0//EN
BEGIN:VEVENT
METHOD:PUBLISH
UID:41341@regionalniportaly.cz
DTSTAMP:20260422T103225Z
DTSTART;VALUE=DATE:20240526
DTEND;VALUE=DATE:20240527
SUMMARY:ŠANSONOVÁNÍ  Davida Macháčka s kapelou
DESCRIPTION:Šansonování – to je intimní večer protkaný známými i neznámými šansony v podání oblíbených tváří Slováckého divadla. Je autorským projektem herce Davida Macháčka\, kterého k vytvoření projektu přivedla touha pracovat\, zpívat\, režírovat a ukázat divákům herce Slováckého divadla jinak\, než jak je znají.
LOCATION:Svatobořice-Mistřín
END:VEVENT
END:VCALENDAR