BEGIN:VCALENDAR
VERSION:2.0
CALSCALE:GREGORIAN
PRODID:-//MyApp//Calendar 1.0//EN
BEGIN:VEVENT
METHOD:PUBLISH
UID:41487@regionalniportaly.cz
DTSTAMP:20260424T095643Z
DTSTART;VALUE=DATE:20240503
DTEND;VALUE=DATE:20240504
SUMMARY:Laco Deczi & Celula New York na Dobrém
DESCRIPTION:V loňském roce to byla pecka akce. Letos tomu nebude jinak!
LOCATION:Uherský Brod
END:VEVENT
END:VCALENDAR