BEGIN:VCALENDAR
VERSION:2.0
CALSCALE:GREGORIAN
PRODID:-//MyApp//Calendar 1.0//EN
BEGIN:VEVENT
METHOD:PUBLISH
UID:41697@regionalniportaly.cz
DTSTAMP:20260422T103804Z
DTSTART;VALUE=DATE:20240517
DTEND;VALUE=DATE:20240518
SUMMARY:DJ TiGi | Club No.6
DESCRIPTION:Po dlouhé době k nám opět zavítá jeden z nejlepších českých DJů a zároveň rezident OX Club Prague.Headliner: TIGISupport: Marek Lukeš&nbsp\;&nbsp\;LÍSTKY V PŘEDPRODEJI POUZE ZA 100 KČ&nbsp\;&nbsp\;NA MÍSTĚ VSTUP 150 KČ&nbsp\;CO2 SHOW&nbsp\;HAPPY MOMENT&nbsp\;LASER SHOW&nbsp\;Vstup 16+&nbsp\;www.no6.cz&nbsp\;https://no6.cz/n-akce-a-novinky&nbsp\;www.instagram.com/discoclubno6&nbsp\;www.instagram.com/studentslifeuh&nbsp\;Happy hour na lodě a maxi drinky do 23:59&nbsp\;Rezervace stolů na čísle 731 108 781
LOCATION:Uherské Hradiště
END:VEVENT
END:VCALENDAR