BEGIN:VCALENDAR
VERSION:2.0
CALSCALE:GREGORIAN
PRODID:-//MyApp//Calendar 1.0//EN
BEGIN:VEVENT
METHOD:PUBLISH
UID:41828@regionalniportaly.cz
DTSTAMP:20260422T070347Z
DTSTART;VALUE=DATE:20240426
DTEND;VALUE=DATE:20240427
SUMMARY:MAJK G.U.N.+ special quest
DESCRIPTION:ZASTÁNCE ČESKÉHO HIP HOPU DORAZÍ SE SVOU SVOU SHOW JIŽ 26.4.2024 DO PEKLA! JAKO SUPPORT MÁ PRO NÁS PŘEKVAPENÍ KTERÉ ODHALÍ V DEN AKCE.PŘEDPRODEJ 100czk&nbsp\;VSTUP NA MÍSTĚ 150czk15+ODVOZ NA AKCI I DOMŮ&nbsp\;DJ TEDDY P
LOCATION:Kostice
END:VEVENT
END:VCALENDAR