BEGIN:VCALENDAR
VERSION:2.0
CALSCALE:GREGORIAN
PRODID:-//MyApp//Calendar 1.0//EN
BEGIN:VEVENT
METHOD:PUBLISH
UID:42139@regionalniportaly.cz
DTSTAMP:20260424T155245Z
DTSTART;VALUE=DATE:20240831
DTEND;VALUE=DATE:20240901
SUMMARY:Rohatec III.
DESCRIPTION:ROHATEC III.&nbsp\;Zveme Vás opět na ukončení prázdnin do Rohatce. Třetí ročník se opět ponese v duchu skvělé zábavy.&nbsp\;&nbsp\;Kapela QUEENIE a její úžasné podání světových hitů hudební legendy&nbsp\;jsou zárukou skvělé zábavy\, a elektrizující atmosféry.OLGA LOUNOVÁ je zpěvačka\, herečka\, závodnice rally\, a se svou kapelou všechny jistě rozpohybuje\, protože prostě patříme k sobě.Krásná vítězka soutěže Česko-Slovenská Superstar a účastnice StarDance&nbsp\;TEREZA MAŠKOVÁ přijde se světem\, který je málo růžový\, a její hlas Vás ohromí.Můžete se těšit na talentované kluky z Dolních Bojanovic\, rocková skupina ŠROTI to umí pořádně rozbalit.Na děti opět čekají soutěže s panáčkem PEDRO a nafukovací atrakce.&nbsp\;O pitný režim se postará Pivovar Lednice&nbsp\;a Vaše bříška naplní BOLFÍKOVY&nbsp\;DOBROTY.&nbsp\;Letos opět TOMBOLA o velmi velmi zajímavé ceny :)&nbsp\;&nbsp\;Děti do 13&nbsp\;let mají vstup zdarma.&nbsp\;Vstup do areálu bude od 14 hodin.&nbsp\;
LOCATION:Rohatec
END:VEVENT
END:VCALENDAR