BEGIN:VCALENDAR
VERSION:2.0
CALSCALE:GREGORIAN
PRODID:-//MyApp//Calendar 1.0//EN
BEGIN:VEVENT
METHOD:PUBLISH
UID:42195@regionalniportaly.cz
DTSTAMP:20260422T101952Z
DTSTART;VALUE=DATE:20240630
DTEND;VALUE=DATE:20240701
SUMMARY:Anička a bylinkové kouzlo - Slovácké léto 2024
DESCRIPTION:Původní veršovaný muzikál&nbsp\;vtipně seznamuje s&nbsp\;kouzelnou mocí bylinek diváky napříč generacemi a za použití písniček rozličných hudebních žánrů.Malá Anička objeví kouzelný svět bylinek a musí se postavit svému tátovi\, aby zachránila bylinkám jejich louku. Aniččin táta se totiž na louce chystá stavět obchodní centrum. Podaří se Aničce tátu přesvědčit a zachránit tak louku pro bylinky? A jakou roli v tom budou hrát kouzla a písničky?&nbsp\;Autor:&nbsp\;Emanuel Míšek\, Josef FojtaRežie:&nbsp\;Jakuba Macečka
LOCATION:Uherské Hradiště
END:VEVENT
END:VCALENDAR