BEGIN:VCALENDAR
VERSION:2.0
CALSCALE:GREGORIAN
PRODID:-//MyApp//Calendar 1.0//EN
BEGIN:VEVENT
METHOD:PUBLISH
UID:42201@regionalniportaly.cz
DTSTAMP:20260422T083128Z
DTSTART;VALUE=DATE:20240517
DTEND;VALUE=DATE:20240518
SUMMARY:17:PIET
DESCRIPTION:Vystúpí:&nbsp\;12:PIETCM PentlaGanja Band Ivana ŠtráfkaDJ Strakýno
LOCATION:Uherský Brod
END:VEVENT
END:VCALENDAR