BEGIN:VCALENDAR
VERSION:2.0
CALSCALE:GREGORIAN
PRODID:-//MyApp//Calendar 1.0//EN
BEGIN:VEVENT
METHOD:PUBLISH
UID:42809@regionalniportaly.cz
DTSTAMP:20260424T230822Z
DTSTART;VALUE=DATE:20241206
DTEND;VALUE=DATE:20241207
SUMMARY:Wohnout
DESCRIPTION:&nbsp\;A opět si po čase uděláme vypečený sraz českých bohémů s kapelou WOHNOUT.Hitmakeři si pozvali na tour jako support skupinu RESUMÉ.
LOCATION:Uherské Hradiště
END:VEVENT
END:VCALENDAR