BEGIN:VCALENDAR
VERSION:2.0
CALSCALE:GREGORIAN
PRODID:-//MyApp//Calendar 1.0//EN
BEGIN:VEVENT
METHOD:PUBLISH
UID:42887@regionalniportaly.cz
DTSTAMP:20260422T102358Z
DTSTART;VALUE=DATE:20240614
DTEND;VALUE=DATE:20240615
SUMMARY:Richard Reynolds | Club No.6
DESCRIPTION:Český dj a producent RICHARD REYNOLDS míří po dlouhé době do Uh. Hradiště!! Připrav se na pořádný nářež!!HEADLINER: RICHARD REYNOLDS&nbsp\;Vstupné na místě 150 Kč&nbsp\;&nbsp\;Support Dj Marek Lukeš&nbsp\;HAPPY MOMENT&nbsp\;LASER SHOW&nbsp\;Vstup 16+&nbsp\;www.no6.cz&nbsp\;https://no6.cz/n-akce-a-novinky&nbsp\;www.instagram.com/discoclubno6&nbsp\;www.instagram.com/studentslifeuh&nbsp\;Happy hour na lodě a maxi drinky do 23:59&nbsp\;Rezervace stolů na čísle 731 108 781
LOCATION:Uherské Hradiště
END:VEVENT
END:VCALENDAR