BEGIN:VCALENDAR
VERSION:2.0
CALSCALE:GREGORIAN
PRODID:-//MyApp//Calendar 1.0//EN
BEGIN:VEVENT
METHOD:PUBLISH
UID:42970@regionalniportaly.cz
DTSTAMP:20260424T170741Z
DTSTART;VALUE=DATE:20240701
DTEND;VALUE=DATE:20240702
SUMMARY:Švanci studio a jeho hosté - Slovácké léto 2024
DESCRIPTION:Těšte se na fotbalový ráj\, kde se góly nejen střílí\, ale i vyprávějí! Petr Švancara vás zve na nezapomenutelnou jízdu plnou smíchu a překvapení. V jeho fotbalovém studiu se nebudou řešit jen ofsajdy\, ale i pikantní historiky nejen z fotbalového prostředí! Připravte se na 90min. zábavy se Švancim\, který představí své tajné hosty\, kteří odhalí\, co se děje i mimo trávník.&nbsp\;
LOCATION:Uherské Hradiště
END:VEVENT
END:VCALENDAR