BEGIN:VCALENDAR
VERSION:2.0
CALSCALE:GREGORIAN
PRODID:-//MyApp//Calendar 1.0//EN
BEGIN:VEVENT
METHOD:PUBLISH
UID:43091@regionalniportaly.cz
DTSTAMP:20260422T085456Z
DTSTART;VALUE=DATE:20240615
DTEND;VALUE=DATE:20240616
SUMMARY:The Madmen v Mikulčicích
DESCRIPTION:K tanci i poslechu zahrají The Madmen z Brna. Skupina The Madmen&nbsp\;hraje již bez jednoho roku 60 let repertoár známých hvězdných kapel\, jako Uriah Heep\, Deep Purpla\, Black Sabath\, Credence Clearwater Revival\, Jimmy Hendrixe a dalších. Zpěvák a kytarista Vilém Majtner je zároveň frontmanem Skupiny Synkopy\, kde zpívá\, hraje&nbsp\;na kytaru\, baskytaru\, a po úmrtí Oldřicha Veselého\, resp. v roce 2021 převzal i jeho roli sólového zpěváka. Varhaník a zpěvák Jan Korbička\, poslední zakládající člen Madmen (skupinu zakládal ve 13 letech!!!)&nbsp\;také působí v Synkopách\, jako klávesista\, zpívá a hraje na akustickopu kytaru. Baskytara a zpěv- Luboš Hloušek\, který také působí v dalších brněnských formacích\, m.j. Rocky Eagles. Michal Kusák - bicí a zpěv působí také v mnoha rockových a groove formacích. Věrné podání známých hitů Vás dostane do kolen a do dob mládí (pro ty\, kdo to pamatují)Tady si můžete dát ochutnávku muziky The Madmen:&nbsp\;https://www.youtube.com/results?search_query=madmen+brnoV Kulturním domě v Mikulčicích se bude&nbsp\;podávat pivo a další posilující nápoje.&nbsp\;Předpokládaný konec - 23.00 hodSenioři z Mikulčic\, 65+ si mohou zakoupit zlevněné vstupenky (50%)na obecním ůřadě u paní Talajkové. Pouze za hotové a po ztotožnění :)
LOCATION:Mikulčice
END:VEVENT
END:VCALENDAR