BEGIN:VCALENDAR
VERSION:2.0
CALSCALE:GREGORIAN
PRODID:-//MyApp//Calendar 1.0//EN
BEGIN:VEVENT
METHOD:PUBLISH
UID:43180@regionalniportaly.cz
DTSTAMP:20260424T215807Z
DTSTART;VALUE=DATE:20241011
DTEND;VALUE=DATE:20241012
SUMMARY:Poletíme? - Hvězdy těžký tour maj
DESCRIPTION:&nbsp\;Po dlouhých šesti letech přicházejí Poletíme? s novým studiovým albem Hvězdy těžký to maj a vyjedou s ním na podzimní klubové turné. V rámci turné Hvězdy těžký tour maj kapela zahraje mix novinek a oblíbených hitů&nbsp\;a přiletí s ním i do Uherského Hradiště.Přes mírné směřování k rockovějším tónům si kapela stále zachovává svůj charakteristický styl a zvuk\, který si fanoušci zamilovali po celé republice. Svojí poetikou a humorem opět mistrně vyprávějí o životních radostech a strastech.Poletíme? na koncertech přivádí publikum do varu svojí energií\, bezprostředností a muzikantským umem. Fanoušci se jim odměňují společným zpěvem\, tancem a radostnou atmosférou. To vše z jejich vystoupení dělá nezapomenutelný zážitek.V čele tohoto osobitého souboru stojí charismatický výtvarník Rudolf Brančovský\, jehož neotřelý hlas a umělecký přístup\, přetváří koncertní pódia v oblohu hvězdných dobrodružství. Spolu s posádkou sedmi talentovaných muzikantů jsou připraveni vzlétnout až k nejodvážnějším hudebním výšinám.„Připoutejte se k nám a proleťte se večerem\, který si zaručeně zapamatujete a bezpečně i přistanete!“ zve Rudolf Brančovský fanoušky Poletíme?\, „Tohle tour totiž není jen sérií koncertů\, je to oslava života se všemi jeho vzestupy a pády. Těšíme se\, že u toho budete s námi.“Složení kapely:·&nbsp\;&nbsp\;&nbsp\;&nbsp\;&nbsp\;&nbsp\;&nbsp\;&nbsp\;&nbsp\;Rudolf Brančovský – kytara\, zpěv·&nbsp\;&nbsp\;&nbsp\;&nbsp\;&nbsp\;&nbsp\;&nbsp\;&nbsp\;&nbsp\;Jáchym Hájek – trubka·&nbsp\;&nbsp\;&nbsp\;&nbsp\;&nbsp\;&nbsp\;&nbsp\;&nbsp\;&nbsp\;Pavel Križovenský – saxofon\, příčná flétna·&nbsp\;&nbsp\;&nbsp\;&nbsp\;&nbsp\;&nbsp\;&nbsp\;&nbsp\;&nbsp\;Vojta Konečný – housle·&nbsp\;&nbsp\;&nbsp\;&nbsp\;&nbsp\;&nbsp\;&nbsp\;&nbsp\;&nbsp\;Ondřej Hájek – piano·&nbsp\;&nbsp\;&nbsp\;&nbsp\;&nbsp\;&nbsp\;&nbsp\;&nbsp\;&nbsp\;Vít Kraváček – basová kytara·&nbsp\;&nbsp\;&nbsp\;&nbsp\;&nbsp\;&nbsp\;&nbsp\;&nbsp\;&nbsp\;Michal Jež – bicí·&nbsp\;&nbsp\;&nbsp\;&nbsp\;&nbsp\;&nbsp\;&nbsp\;&nbsp\;&nbsp\;Josef Zámečník – banjo\, kytara
LOCATION:Uherské Hradiště
END:VEVENT
END:VCALENDAR