BEGIN:VCALENDAR
VERSION:2.0
CALSCALE:GREGORIAN
PRODID:-//MyApp//Calendar 1.0//EN
BEGIN:VEVENT
METHOD:PUBLISH
UID:43181@regionalniportaly.cz
DTSTAMP:20260425T023453Z
DTSTART;VALUE=DATE:20241101
DTEND;VALUE=DATE:20241102
SUMMARY:Morčata na útěku
DESCRIPTION:První listopadový den se stane dnem otrlého humoru\, kdy do UH zavítá prazvláštní bandička pošuků\, ne-li přímo klaunů\,která se proslavila košatými texty\, ve kterých se prolíná poetická epičnost s útrapami každodenního života\, kolikrát i na pozadí hlubokých a lidských příběhů. Témata písní pak rezonují napříč všemi skupinami naší společnosti.Kapela se samozřejmě angažuje i v dobročinnosti a rozjíždí projekt Nadace Prdíčko. Ten je určený tzv. gasbombardikům. Zdravotní porucha zvaná Gasbombardie se týká lidí s nadměrnou plynatostí a projevuje se tak\, že postižení pak mají ze svého konání úzkostnou radost. Jelikož mezi členy kapely se takoví lidé nachází\, rozhodli se toho využít a proti této zákeřné věci bojovat.Frontman Yetty se pak pohybuje i na poli religionistiky. Sám byl jmenován veleknězem tzv. Kýblistické církve. Ta uctívá posvátný Kýbl\, pravý tříproužkový zinkáč.Podium pro velekněze rozehřeje na tropickou teplotu kapela ALDABRA.
LOCATION:Uherské Hradiště
END:VEVENT
END:VCALENDAR