BEGIN:VCALENDAR
VERSION:2.0
CALSCALE:GREGORIAN
PRODID:-//MyApp//Calendar 1.0//EN
BEGIN:VEVENT
METHOD:PUBLISH
UID:43263@regionalniportaly.cz
DTSTAMP:20260424T095537Z
DTSTART;VALUE=DATE:20240701
DTEND;VALUE=DATE:20240702
SUMMARY:Spikeball - Slovácké léto 2024
DESCRIPTION:Spikeball je nový sport s míčkem a speciální síťovou trampolínkou. Spikeball je dynamická míčová sportovní hra plná zábavy\, je jednoduchá na zvládnutí\, rychlá a hodně návyková. Pravidla hry jsou podobné beachvolejbalu. Hrají proti sobě dva dvoučlenné týmy. Spoluhráči si mezi sebou mohou vzduchem nahrávat a maximálně třetím dotykem umístit míček do trampolínky.Více informací na&nbsp\;www.slovackeleto.cz
LOCATION:Uherské Hradiště
END:VEVENT
END:VCALENDAR