BEGIN:VCALENDAR
VERSION:2.0
CALSCALE:GREGORIAN
PRODID:-//MyApp//Calendar 1.0//EN
BEGIN:VEVENT
METHOD:PUBLISH
UID:43265@regionalniportaly.cz
DTSTAMP:20260422T101536Z
DTSTART;VALUE=DATE:20240630
DTEND;VALUE=DATE:20240701
SUMMARY:Edhouse šifrovačka - Slovácké léto 2024
DESCRIPTION:Edhouse ŠifrovačkaPokud rádi zdoláváte výzvy u kterých si procvičíte mozkové závity\, přiberte k sobě ještě pár kamarádů a vydejte se na dobrodružnou cestu plnou šifer po Uherském Hradišti a nejbližším okolí.V rámci šifrovací hry bude připraveno několik stanovišť\, přičemž každé z nich bude spojeno se šifrou\, kterou dostanete v obálce. Vyřešením šifry se dozvíte informaci o místě následujícího stanoviště. Zvítězí ten tým\, který vyluští správně všechny šifry v co nejkratším čase a s co nejmenším počtem nápověd.Smyslem hry je pobavit se\, nasbírat nové zážitky a překonat sám sebe na cestě za nejlepším umístěním.Těšte se na skvělou&nbsp\;šifrovačku&nbsp\;v neděli 30. 6. 2024\, kterou pro Vás připravila firma Edhouse s.r.o.&nbsp\;V rámci registrace je možné do 31.5.&nbsp\;zakoupit také festivalový merch za zvýhodněnou cenu. Pro přidání dalšího trika k registraci zvolte při nákupu vstupenky “Přidat další vstupneku” v rolovacím menu pak “Přidat MERCH”\, následně si můžete vybrat poždovanou velikostVíce informací na&nbsp\;www.slovackeleto.cz
LOCATION:Uherské Hradiště
END:VEVENT
END:VCALENDAR