BEGIN:VCALENDAR
VERSION:2.0
CALSCALE:GREGORIAN
PRODID:-//MyApp//Calendar 1.0//EN
BEGIN:VEVENT
METHOD:PUBLISH
UID:43297@regionalniportaly.cz
DTSTAMP:20260422T084310Z
DTSTART;VALUE=DATE:20240615
DTEND;VALUE=DATE:20240616
SUMMARY:sobotní brunch na POLI DESIGNU
DESCRIPTION:Sobotní brunch s přednáškou NEBOJTE SE DESIGNU a workshopem pro děti ve VÝTVARNÉ POLEPŠOVNĚ. Celý program je grátis.&nbsp\;&nbsp\;Zbavíme vás strachu\, zboříme mýtus. Ten designový.Nebojte se designu. To je název interaktivní přednášky\, která se uskuteční na Poli designu 15. června. Během dvouhodinného setkání se pokusíme poodhalit zákulisí procesu navrhování produktů\, které nemají být lifestylovým výstřelkem\, ale funkčním řešením vycházejícím ze znalosti ergonomie\, materiálů a výrobních procesů.
LOCATION:Bílovice
END:VEVENT
END:VCALENDAR