BEGIN:VCALENDAR
VERSION:2.0
CALSCALE:GREGORIAN
PRODID:-//MyApp//Calendar 1.0//EN
BEGIN:VEVENT
METHOD:PUBLISH
UID:43525@regionalniportaly.cz
DTSTAMP:20260424T112708Z
DTSTART;VALUE=DATE:20240705
DTEND;VALUE=DATE:20240706
SUMMARY:Taneční večer SL2024
DESCRIPTION:Přijďte si užít protančený večer na Kolejní nádvoří. Akcí Vás provede zkušený lektor Jiří Herůdek (moderní-taneční). Těšit se můžete na taneční výuku\, vystoupení soutěžního páru z TK Rokaso a tančírnu\, která je určena pro všechny\, kteří si rádi zatančí dle tanečního pořádku na reprodukovanou hudbu. Na tančírně zazní rytmy standardní a latinskoamerické v podobě tanců: waltz\, tango\, valčík\, quickstep\, samba\, chacha\, rumba\, jive\, salsa a bachata.&nbsp\;&nbsp\;Neváhejte a přijďte si vyzkoušet\, že tanec je opravdu pro každého. Celý večer se bude nést v duchu uvolněné nálady a letní pohody.&nbsp\;&nbsp\;Občerstvení bude zajištěno v Café Colejní &nbsp\;.&nbsp\;&nbsp\;Dress code: pohodlný\, neformální oděv vhodný k tanci&nbsp\;Obuv: přiměřená k tanečnímu parketu = dlažba&nbsp\;&nbsp\;Program:19:00 - zahájení akce19:20 - workshop - chacha20:00 - tančírna (standardní a latinské tance)20:45 - taneční vystoupení21:00 - tančírna (standardní a latinské tance)21:45 - workshop - Salsa22:15 - tančírna&nbsp\;&nbsp\;(standardní a latinské tance)23:00 - ukončení akce
LOCATION:Uherské Hradiště
END:VEVENT
END:VCALENDAR