BEGIN:VCALENDAR
VERSION:2.0
CALSCALE:GREGORIAN
PRODID:-//MyApp//Calendar 1.0//EN
BEGIN:VEVENT
METHOD:PUBLISH
UID:44108@regionalniportaly.cz
DTSTAMP:20260424T200815Z
DTSTART;VALUE=DATE:20240809
DTEND;VALUE=DATE:20240810
SUMMARY:Pink Floyd CZ/SK Tribute (Floyds)
DESCRIPTION:Zveme vás na Pink Floyd v Amfíku Bukovina Popovice9. srpna 2024 začátek 19&nbsp\;hPřipravujeme pro vás velkou audio/vizuální show\, projekce\, lasery\, světelné efekty a skvělý&nbsp\;zvuk ….Vstupné v předprodeji 490 Kč na místě 600 Kč.Dítě ZDARMA do 150 cm výšky a v doprovodu platícího&nbsp\;dospělého.Studenti s průkazem studenta nad 150 cm vstupné 300 Kč.&nbsp\;V případě nepříznivého počasí akce proběhne v hale areálu.&nbsp\;Areál bude zpřístupněn od 19 hod\, koncert začíná v 20:00o kapele&nbsp\;Floyds:10-ti člený výběr top muzikantů Floyds CZ/SK s cílem o maximální věrnost interpretace&nbsp\;nadčasového originálu Pink Floyd\, který okouzluje napříč generacemi. Členové kapely se dlouho „krystalizovali“ z toho nejlepšího co Česká i Slovenská scéna nabízí a mohou se opřít o dlouholeté zkušenosti nejen na evropské úrovni\, ale i na turné po USA.&nbsp\;Můžete se také těšit na okouzlující projev třech špičkových vokalistek okořeněný&nbsp\;věrnou choreografií inspirující se&nbsp\; posledním celosvětovým turné PULSE z r. 1994\, které nedávno oslavilo své 30 výročí.Propracovaná vizuální show plná světelných efektů je zasazena do krásného&nbsp\;prostředí přírodního areálu Bukovina Popovice.O dovršení magického zážitku se postará 11-tý člen kapely - mistr zvuku s bohatými zkušenostmi.&nbsp\;Přijďte si s námi zahrát v klipu!Z tohoto koncertu bude pořízen audovizuální záznam.Záznam bude použit k výrobě propagačních materiálů pořadatele a kapely.Děkujeme a těšíme se na Vás !www.amfikbukovina.czwww.floyds.czPořadatel:&nbsp\;www.369.czUpozornění: na akci budou použity vizuální\, stroboskopické a laserové efekty.
LOCATION:Popovice
END:VEVENT
END:VCALENDAR