BEGIN:VCALENDAR
VERSION:2.0
CALSCALE:GREGORIAN
PRODID:-//MyApp//Calendar 1.0//EN
BEGIN:VEVENT
METHOD:PUBLISH
UID:44179@regionalniportaly.cz
DTSTAMP:20260422T113227Z
DTSTART;VALUE=DATE:20240704
DTEND;VALUE=DATE:20240705
SUMMARY:Majk Spirit + Argema (VIP zóna) - Slovácké léto 2024
DESCRIPTION:Dva koncerty v jednom\, čtvrteční večer zahájí Slovenský raper Majk Spirit\, večer ukončí stálice Slováckého léta\, skupina Argema v náhradním termínu za zrušený sobotní koncert.Poprvé na Slováckém létě! Slovenskou scénu bude letos zastupovat mimo jiné i skvělý raper Majk Spirit. Jeho koncert si můžete užít&nbsp\;ve VIP zóně. Co díky tomu získáte? Skvělý výhled\, drink zdarma\, pohodlí a možnost nemačkat se v davu.Argema je jedna ze stálic Slováckého léta a její koncerty navštěvují nejen domácí fanoušci. Zatím pokaždé zaplnila Masarykovo náměstí a letos ji doplní i předskokan\, další domácí hvězda Honza Grebík. Vy máte možnost užít si koncert ve VIP zóně pro omezený počet návštěvníků\, s pivem nebo vínem a příjemným zázemím.
LOCATION:Uherské Hradiště
END:VEVENT
END:VCALENDAR