BEGIN:VCALENDAR
VERSION:2.0
CALSCALE:GREGORIAN
PRODID:-//MyApp//Calendar 1.0//EN
BEGIN:VEVENT
METHOD:PUBLISH
UID:44839@regionalniportaly.cz
DTSTAMP:20260425T022623Z
DTSTART;VALUE=DATE:20241209
DTEND;VALUE=DATE:20241210
SUMMARY:ZAPOMENUTÝ PŘÍBĚH - Ondřej Ruml\, Vánoční koncert
DESCRIPTION:Vánoční koncert jednoho z nejvýraznějších interpretů současné tuzemské scény. Koncert se skládá z písní Zdeňka N. Bričkovského v aranžích Davida Rottera. Mezi jednotlivými písněmi je jemně vetkané průvodní slovo\, které\, spolu s písněmi\, jako střípky skládá dnes již tak trochu zapomenutý příběh. „Zapomenutý příběh vypráví nejen o narození Ježíška v Betlémě\, ale i o tajemném zrození zářivého Světla v nás. To Světlo se v nás může rozsvěcet každý den - drobnými dobrými skutky\, láskou k druhému člověku…\,” říká autor Zdeněk N. Bričkovský\, a naznačuje\, že se lidé mohou tímto příběhem inspirovat po celý rok\, nejen o Vánocích.
LOCATION:Svatobořice-Mistřín
END:VEVENT
END:VCALENDAR