BEGIN:VCALENDAR
VERSION:2.0
CALSCALE:GREGORIAN
PRODID:-//MyApp//Calendar 1.0//EN
BEGIN:VEVENT
METHOD:PUBLISH
UID:44891@regionalniportaly.cz
DTSTAMP:20260424T231159Z
DTSTART;VALUE=DATE:20241110
DTEND;VALUE=DATE:20241111
SUMMARY:Múdra stařečka Pagáča
DESCRIPTION:Ochotnické divadlo z Vracova NEJENXMÍCHU uvede hru Múdra stařečka Pagáča 10. 11. 2024 od 17:00 v sále KD.Vstupné 100 Kč\, zakoupíte v kanceláři KD.
LOCATION:Svatobořice-Mistřín
END:VEVENT
END:VCALENDAR