BEGIN:VCALENDAR
VERSION:2.0
CALSCALE:GREGORIAN
PRODID:-//MyApp//Calendar 1.0//EN
BEGIN:VEVENT
METHOD:PUBLISH
UID:44915@regionalniportaly.cz
DTSTAMP:20260425T035913Z
DTSTART;VALUE=DATE:20241207
DTEND;VALUE=DATE:20241208
SUMMARY:MIKULÁŠSKÁ GRINDOVAČKA
DESCRIPTION:Každoroční grindcorový festival v Uherském Hradišti v klubu Mír .&nbsp\;Hedliner : INHUMATE (FR)&nbsp\;Co-headliner: DISTASTE (AT)&nbsp\;Supports : SPASM \, JIG-AI\, INSISTENT\, ATARAXIA (SK)
LOCATION:Uherské Hradiště
END:VEVENT
END:VCALENDAR