BEGIN:VCALENDAR
VERSION:2.0
CALSCALE:GREGORIAN
PRODID:-//MyApp//Calendar 1.0//EN
BEGIN:VEVENT
METHOD:PUBLISH
UID:44966@regionalniportaly.cz
DTSTAMP:20260424T171926Z
DTSTART;VALUE=DATE:20240928
DTEND;VALUE=DATE:20240929
SUMMARY:Šroti – Poslední koncert
DESCRIPTION:Naši milí fanoušci\,po necelých dvaceti&nbsp\;letech společného tvoření\, koncertování a zážitků jsme se rozhodli uzavřít naši hudební cestu kapely Šroti. A proto vás zveme na náš poslední a rozlučkový mega koncert se speciální SHOW.Akce se koná 28. září 2024 na zadním hřišti v Dolních Bojanovicích.Přijďte s námi prožít tento jedinečný večer plný písniček a vzpomínek. Navíc po celou dobu akce bude na místě plno skvělého jídla a pití.➼➤ Grill&amp\;Chill➼➤ Vinařský spolek Dolní Bojanovice➼➤ Veroni Kafestánek➼➤ SEBA král grilu➼➤ Pivo &amp\; Limo SK Dolní BojanoviceNa posledním vystoupení nás doprovodí nadějné bojanovské kapely.LINE UP18:00 Ztratěné klúče19:00 4BAB19:30 Jopapadam20:30 ŠROTI22:30 DJ Radio JIHOtevření areálu v 17:30PŘEDPRODEJ VSTUPENEKCena vstupného se bude do vyprodání zvyšovat dle aktuální volné kapacity. Prodej lístku bude ukončen vyprodáním. Kapacita je omezena.Děti do 6 let mají vstup zdarma.&nbsp\;Těšíme se na vás\, vaši Šroti
LOCATION:Dolní Bojanovice
END:VEVENT
END:VCALENDAR