BEGIN:VCALENDAR
VERSION:2.0
CALSCALE:GREGORIAN
PRODID:-//MyApp//Calendar 1.0//EN
BEGIN:VEVENT
METHOD:PUBLISH
UID:45122@regionalniportaly.cz
DTSTAMP:20260424T215550Z
DTSTART;VALUE=DATE:20250801
DTEND;VALUE=DATE:20250802
SUMMARY:Beseda u Bigbítu 2025
DESCRIPTION:POZOR: SNIŽUJEME KAPACITU AREÁLU32. ročník (nejen)&nbsp\;hudebního&nbsp\;festivalu v krásném prostředí areálu Topolového hájku v Tasově u Veselí nad Moravou.Opět na váš čekají 2 dny\, 3 scény\, více jak 50 dramaturgických položek.&nbsp\;Těšte se opět na vybraný program hudby\, umění\, divadla\, performance.Zveřejněný hudební program:&nbsp\;Alan Sparhawk&nbsp\; (ex-Low) (USA)\, EBBB (UK)\, Getdown Services (UK)\, Portrayal of Guilt (USA)\, Ugly (UK)\, 50 m znak (CZ)\, Adela Mede (SK)\, Amelie Siba (CZ)\,&nbsp\;Barbora Hora (CZ)\, Black Tar Jesus (CZ)\, Buty (CZ)\, Čáry života (CZ)\, DJ Myslivec (CZ)\, Dominik Prok (SK)\, DVA (CZ)\, Erika Rein (SK)\, Esazlesa (CZ)\, Fae Bestia (CZ)\, FVCK_KVLT (SK)\, HCM Marka Potěšila (CZ)\, Ghost Of You (CZ)\, Ginger Wizard &amp\; The Peter Jacksons (CZ)\, HCM Marka Potěšila (CZ)\, Hihihahaholky (CZ)\, Mat213 (CZ)\, Martina Trchová (CZ)\, MMNK (CZ)\, Nivva (CZ)\, Plum Dumplings (CZ)\, Severní nástupiště (CZ)\, Sýček (CZ)\, THC Luna G (CZ)\,Viktor Ori (SK)\,Vojtik (SK)\, WWW (CZ)\,Zaffer 9 (CZ)\, Zapomělsem (CZ).
LOCATION:Tasov
END:VEVENT
END:VCALENDAR