BEGIN:VCALENDAR
VERSION:2.0
CALSCALE:GREGORIAN
PRODID:-//MyApp//Calendar 1.0//EN
BEGIN:VEVENT
METHOD:PUBLISH
UID:45288@regionalniportaly.cz
DTSTAMP:20260424T172747Z
DTSTART;VALUE=DATE:20240927
DTEND;VALUE=DATE:20240928
SUMMARY:360° RAVE
DESCRIPTION:360° RAVE v Uherském Hradišti&nbsp\;PATRICK JUNIORSLUGDAN HAWARDSLADDYDIAN WHESSDJ CONTEST&nbsp\;
LOCATION:Uherské Hradiště
END:VEVENT
END:VCALENDAR