BEGIN:VCALENDAR
VERSION:2.0
CALSCALE:GREGORIAN
PRODID:-//MyApp//Calendar 1.0//EN
BEGIN:VEVENT
METHOD:PUBLISH
UID:45597@regionalniportaly.cz
DTSTAMP:20260425T004733Z
DTSTART;VALUE=DATE:20241027
DTEND;VALUE=DATE:20241028
SUMMARY:SKYWALKER
DESCRIPTION:Po dlouhých 7 letech se do UH vrací žánrová špička tuzemské metalcore &amp\; hardcore scény kapela SKYWALKER\, která už řadu let patří mezi evropsky etablovanou kapelu s fanoušky po celém kontinentu.Kromě pravidelných účastí na všech zásadních českých festivalech (RFP\, BA\, Mighty Sounds atd.) mají za sebou např. turné po Kanadě\, Japonsku\, Číně a nespočet shows v rámci EU &amp\; UK\, kde sdíleli stage se jmény jako Landmarks\, Deez Nuts\, Asking Alexandria\, Crystal Lake\, Attila a mnoho dalších.O support se postarají MARKED AS AN ENEMY z Českých Budějovic/Prahy\, kteří patří mezi top metalcore bandy u nás. Dále se o slovo přihlasí přerovští BREAKING THE CYCLE a jejich velký comeback a nová metalcore naděje domácí WETHEGODS a jejich vůbec první live debut.
LOCATION:Uherské Hradiště
END:VEVENT
END:VCALENDAR