BEGIN:VCALENDAR
VERSION:2.0
CALSCALE:GREGORIAN
PRODID:-//MyApp//Calendar 1.0//EN
BEGIN:VEVENT
METHOD:PUBLISH
UID:45775@regionalniportaly.cz
DTSTAMP:20260424T202911Z
DTSTART;VALUE=DATE:20241009
DTEND;VALUE=DATE:20241010
SUMMARY:Middle of the Sandwich - BLANKYT TOUR 2024 Uherské Hradiště
DESCRIPTION:Indie-popová skupina&nbsp\;Middle of the Sandwich&nbsp\;vyjíždí na své první klubové turné!Na&nbsp\;zastávce v Uherském Hradišti v legendárním Klubu Mír&nbsp\;se jako host&nbsp\;BLANKYT TOUR 2024 ve středu 9. října&nbsp\;od 19:30 představí i zbrusu nový hudební projekt Lana.Middle of the SandwichTato ambiciózní formace z Olomouce vznikla během pandemie v roce 2020. Minulý rok se skupina dočkala svého debutu\, alba Zvuky a Vůně\, na kterém spolupracovala s producentem Borisem Carloffem. Svou specifickou tvorbou a přístupem k popu se skupina řadí mezi zajímavé hudební naděje posledních let. V roce 2023 se například&nbsp\;stali&nbsp\;i Objevem roku Radia Haná.Singly Už bys vážně měla jít\, Zvuky a vůně nebo poslední letní singl Blankyt si naživo rozhodně nesmíš nechat ujít. Uprostřed sendviče je zkrátka vždycky nejlíp!&nbsp\;LanaNový hudební projekt Lana si v Uherském Hradišti odbude svou premiéru. Od nedávno vzniklého uskupení kolem hudebníků Matěje Tauše a Petra Konečného lze čekat osobitý smysl pro humor i kvalitní instrumentální stránku věci.&nbsp\;Cena v předprodeji: 150 KčCena na místě: 200 Kč
LOCATION:Uherské Hradiště
END:VEVENT
END:VCALENDAR