BEGIN:VCALENDAR
VERSION:2.0
CALSCALE:GREGORIAN
PRODID:-//MyApp//Calendar 1.0//EN
BEGIN:VEVENT
METHOD:PUBLISH
UID:45856@regionalniportaly.cz
DTSTAMP:20260424T184051Z
DTSTART;VALUE=DATE:20240927
DTEND;VALUE=DATE:20240928
SUMMARY:Post hudba\, Ivy Z na Poli designu
DESCRIPTION:P á t e k &nbsp\;&nbsp\;&nbsp\;&nbsp\;&nbsp\;&nbsp\;&nbsp\;&nbsp\;&nbsp\;&nbsp\;&nbsp\;&nbsp\; 27/9&nbsp\;Od 19 hodin&nbsp\;&nbsp\;Třetí v&nbsp\;sérii Zvykejte si.. tentokrát koncert Ivy Z&nbsp\;a Post hudby. &nbsp\;&nbsp\;Léto nikdy nekončí? &nbsp\;U nás v&nbsp\;Poli už voní babí léto. &nbsp\;&nbsp\;Ticho po Wifiči\, brzký západ slunce\, svetry\, poorané pole\, ranní mlha. &nbsp\;Přijďte klidně dřív\, vemte děti\, klobásku\, deku\, případně gumáky. Oheň\, jídlo i pití bude. &nbsp\;&nbsp\;///////&nbsp\;&nbsp\;&nbsp\; IVY Z&nbsp\;&nbsp\;Písničkářka Ivy-Z v minulosti působila v kapelách Strangers in the City a Billow\, její sólová kariéra je charakterizována syrovými emocemi a výrazovou strohostí\, která odkazuje k žánrům slow core i trip hop. Debutová nahrávka Under a red moon vznikla jako self-care projekt - jedna píseň za týden - a vyšla v létě 2021. Album let yours be the last burning heart je z února 2023 a postaral se o ni Korobushka Records. Letošní EPčko 23 rekapituluje přelomový rok v osobním i hudebním životě a nabízí kvarteto křehkých písňových pohlednic o hledání naděje.&nbsp\;&nbsp\;&nbsp\;S kytarou\, výraznými stíny a minimalistickým outfitem na pódiu připomíná PJ Harvey z druhé poloviny devadesátých let. V jemnějších polohách zase záhy dovede přepnout do módu\, ve kterém působí jako postava z kultovního filmu Sebevraždy panen od Sofie Coppoly. Tedy křehce ale i nihilisticky dohromady. Ivy Z\, nejnovější umělecké alterego hudebnice Lenky Zbořilové\, nabízí nejrůznější odstíny ženského písničkářství.&nbsp\;&nbsp\;https://www.colours.cz/ucinkujici/ivy-z&nbsp\;&nbsp\;&nbsp\;///////&nbsp\;&nbsp\;&nbsp\; POST HUDBA&nbsp\;&nbsp\;Po dvouleté odmlce se začátkem roku vrátila s novou deskou My všichni tady a teď stálice pražské scény\, elektronické duo post-hudba.&nbsp\;&nbsp\;&nbsp\;Post-hudba se na předchozí desce věnovala životu uvnitř velkoměsta zasaženého globální pandemií\, nové album pokračuje v podobném duchu – na ploše deseti skladeb mluví o snaze vyrovnat se s obrazem světa\, který už nikdy nebude jako dřív. Nové písně tentokrát vznikaly s kytarou a stojí na silných melodiích obalených současnou produkcí.&nbsp\;&nbsp\;„Ve výsledku na albu převládá spíš smutek a snaha o nalezení nějakýho coping mechanismu. Planeta hoří\, v našich městech mají auta víc práv než polovina jejich obyvatel\, na dovolený se očekává\, že budeš stejně k dispozici\, a samotná možnost zaplatit každej měsíc nájem se mění v luxus. V normálním světě by tohle album nikdy nevzniklo\,“ říkají songwriter Dominik Zezula a producent Tomáš Havlen.&nbsp\;&nbsp\;Hudební stránka propojuje experimentálnější tvář post-hudby s klasickým písničkářstvím. Silné refrény a živé kytary se kříží s tanečními beaty\, ozvěnami UK garage i přetrvávajícími vlivy hyperpopu\, hardcore a indie folku.&nbsp\;&nbsp\;&nbsp\;&nbsp\;
LOCATION:Bílovice
END:VEVENT
END:VCALENDAR