BEGIN:VCALENDAR
VERSION:2.0
CALSCALE:GREGORIAN
PRODID:-//MyApp//Calendar 1.0//EN
BEGIN:VEVENT
METHOD:PUBLISH
UID:45961@regionalniportaly.cz
DTSTAMP:20260425T010257Z
DTSTART;VALUE=DATE:20241028
DTEND;VALUE=DATE:20241029
SUMMARY:Na stojáka
DESCRIPTION:Originální česká stand- up comedy exkluzivně ve Ždánicích.Nenechte si ujít večer plný vtipných historek nejen za života!!!Bránice Vám přijedou polechtat Lukáš Pavlásek\, Karel Hynek a Daniel&nbsp\;Čech.Ždánice\, připravte se na výbuch smíchu! 28. října od 19:00 se Kulturní dům promění v arénu humoru\, kde se budou lámat bránice a nečekané pointy létat vzduchem. Přijďte na stand-up večer\, který vás rozesměje víc než sousedovy historky z grilovačky!
LOCATION:Ždánice
END:VEVENT
END:VCALENDAR