BEGIN:VCALENDAR
VERSION:2.0
CALSCALE:GREGORIAN
PRODID:-//MyApp//Calendar 1.0//EN
BEGIN:VEVENT
METHOD:PUBLISH
UID:45975@regionalniportaly.cz
DTSTAMP:20260424T230949Z
DTSTART;VALUE=DATE:20241018
DTEND;VALUE=DATE:20241019
SUMMARY:Techno only / Orbith / Jaqullin
DESCRIPTION:Všichni milovníci TECHNO music se mají na co těšit!! Celý večer bude dunět techno music\, kde o produkci se postarají hned 4 DJs v čele s Djskou legendou této scény ORBITH!!&nbsp\;HEADLINER: ORBITH&nbsp\;SUPPORT DJs: JAQULLIN MICKEY LAHVISZ&nbsp\;&nbsp\;HAPPY MOMENT&nbsp\;LASER SHOW&nbsp\;Vstup 16+&nbsp\;Vstupné na místě 150 Kč
LOCATION:Uherské Hradiště
END:VEVENT
END:VCALENDAR