BEGIN:VCALENDAR
VERSION:2.0
CALSCALE:GREGORIAN
PRODID:-//MyApp//Calendar 1.0//EN
BEGIN:VEVENT
METHOD:PUBLISH
UID:46265@regionalniportaly.cz
DTSTAMP:20260424T231041Z
DTSTART;VALUE=DATE:20241107
DTEND;VALUE=DATE:20241108
SUMMARY:Štěpán Urban / Uherské Hradiště | křest alba Potopa
DESCRIPTION:MÁME VYPRODÁNO. POSLEDNÍCH 10 VSTUPENEK BUDE K PRODEJI NA MÍSTĚ. DĚKUJEME A TĚŠÍME SE!&nbsp\;_____________Štěpán Urban\, český hudebník a songwriter\, se chystá na své první turné\,&nbsp\;na které vyráží již tento podzim. Přijďte si poslechnout jeho debutové album Potopa\, které vás pohltí hlubokými texty a širokým spektrem nálad\, zvuků a příběhů.Štěpánova hudba vás zavede na emocionální cestu\, kde se prolínají osobní příběhy s chytlavými melodiemi. Na stage ho doprovodí živá kapela\, která doladí celý akustický set.Nezmeškejte tuto příležitost být součástí jeho hudebního debutu a zažijte jedinečnou atmosféru intimních akustických koncertů.&nbsp\;Listopadové turné zahrnuje zastávky v Brně\, Uherském Hradišti\, Olomouci a vyvrcholí křtem alba v Praze.&nbsp\;
LOCATION:Uherské Hradiště
END:VEVENT
END:VCALENDAR