BEGIN:VCALENDAR
VERSION:2.0
CALSCALE:GREGORIAN
PRODID:-//MyApp//Calendar 1.0//EN
BEGIN:VEVENT
METHOD:PUBLISH
UID:46307@regionalniportaly.cz
DTSTAMP:20260425T040316Z
DTSTART;VALUE=DATE:20240928
DTEND;VALUE=DATE:20240929
SUMMARY:XVIII. HOT DOG fest
DESCRIPTION:28.září se potkáme v&nbsp\;kompletní sestavě a opět na dvou stagích!&nbsp\;HOT DOG FEST XVIII opět&nbsp\;odpálí ostrý start klubové sezony.&nbsp\;Na co se můžete těšit? Předem na to\, že celý večer vlastně již od brzkých odpoledních hodin bude nacpán muzikou. Hrát se totiž bude na 2 stagích. První stage bude na sále na hlavním podiu\, a těšit se můžete i na originální a tlakem napěchovanou \,\,Bar stage“ . Kapely se na těchto stagích budou střídat v pravidelných intervalech\, žádná z kapel se nebude krýt s jinou.&nbsp\;Z&nbsp\;Bratislavy se dovalí metalický crust&nbsp\; ADACTA\, dneska už TOP kapela v rámci Evropy. PRIMARY RESISTANCE z Ostravy jsou kapelou na rozmezí hardcoru a metalu s příměsí punku\, která má za sebou všechny zásadní velké festivaly napříč CZ a SK. Zajímavou partou jsou pražští\, powerviolence drtící\, TERMINATOR X\, v&nbsp\;čele se zpěvačkou Aničkou . Zajímavostí je\, že crust/punková INTERPUNKCE je člensky propojena právě s&nbsp\;TERMINATOR X. Legendami se dají nazvat pražští THALIDOMIDE\, kteří svůj US melodický HC/punk drtí již od roku 1993! Brutální deathmetal přijedou reprezentovat pražští SHAMPOON KILLER. Pestrou škálu kapel pak doplní blackmetalisté HNUS UMÍRAJÍCÍ. URBURA jsou stálicí nejen valašské scény\, punk a crust s&nbsp\;CZ texty. LUDRA\, to je jedovatý grind ala Nasum z&nbsp\;Litoměřic\, což ukázují i na nové desce\, která jim právě vyšla. EMPTY HALL OF FAME je naopak hardcore/punk melodického střihu s&nbsp\;texty s&nbsp\;přesahem\, tepající konzumní společnost. Domácím zástupcem bude kometa z&nbsp\;Jalubí okolí\, hrající emocrust\, kapela MÄRNØ .&nbsp\;Celá akce odstartuje přesně v&nbsp\;17 30 hodin\, s&nbsp\;tím\, že klub je otevřen od 16 30.&nbsp\;
LOCATION:Uherské Hradiště
END:VEVENT
END:VCALENDAR