BEGIN:VCALENDAR
VERSION:2.0
CALSCALE:GREGORIAN
PRODID:-//MyApp//Calendar 1.0//EN
BEGIN:VEVENT
METHOD:PUBLISH
UID:46316@regionalniportaly.cz
DTSTAMP:20260425T103614Z
DTSTART;VALUE=DATE:20250315
DTEND;VALUE=DATE:20250316
SUMMARY:Fast Food Orchestra
DESCRIPTION:Šéfkuchaři Fast Food Orchestra jsou stálicí na české klubové i festivalové scéně od roku 1998. Na svém kontěmají přes dva tisíce koncertů doma i ve více jak dvaceti zemích světa. Srdce fanouškůsi získali především díky pozitivní energii\, tanečním rytmům a interaktivní show .Ska -punková zábavná kapela Redy Krýgl koncert odpálí ...a bude veselo.
LOCATION:Uherské Hradiště
END:VEVENT
END:VCALENDAR