BEGIN:VCALENDAR
VERSION:2.0
CALSCALE:GREGORIAN
PRODID:-//MyApp//Calendar 1.0//EN
BEGIN:VEVENT
METHOD:PUBLISH
UID:46436@regionalniportaly.cz
DTSTAMP:20260424T200733Z
DTSTART;VALUE=DATE:20240928
DTEND;VALUE=DATE:20240929
SUMMARY:VIP BOX 28.9.2024
DESCRIPTION:Možnost rezervace VIP boxu je tady!Box přímo u DJe\, obsluha do boxu a mnoho dalšího!V ceně VIP boxu:- bottle service (dle nabídky)-5x vstup&nbsp\;-rezervovaný box vedle DJe&nbsp\;Příchod do podniku musí být před půlnocí!
LOCATION:Uherské Hradiště
END:VEVENT
END:VCALENDAR