BEGIN:VCALENDAR
VERSION:2.0
CALSCALE:GREGORIAN
PRODID:-//MyApp//Calendar 1.0//EN
BEGIN:VEVENT
METHOD:PUBLISH
UID:46444@regionalniportaly.cz
DTSTAMP:20260424T200851Z
DTSTART;VALUE=DATE:20241019
DTEND;VALUE=DATE:20241020
SUMMARY:VIP Box Classic
DESCRIPTION:Možnost rezervace VIP boxu je tady!Box přímo u DJe\, obsluha do boxu a mnoho dalšího!V ceně VIP boxu:- bottle service (dle nabídky)- 5x vstup&nbsp\;- rezervovaný box vedle DJe- obsluha do boxu&nbsp\;Příchod do podniku musí být před půlnocí!
LOCATION:Uherské Hradiště
END:VEVENT
END:VCALENDAR