BEGIN:VCALENDAR
VERSION:2.0
CALSCALE:GREGORIAN
PRODID:-//MyApp//Calendar 1.0//EN
BEGIN:VEVENT
METHOD:PUBLISH
UID:46448@regionalniportaly.cz
DTSTAMP:20260425T004140Z
DTSTART;VALUE=DATE:20241018
DTEND;VALUE=DATE:20241019
SUMMARY:VIP Box Extra
DESCRIPTION:Možnost rezervace VIP boxu je tady!Box přímo u DJe\, obsluha do boxu a mnoho dalšího!V ceně VIP boxu:- VIP bottle service (0\,7L Grey Goose + 6x RedBull)- 5x vstup&nbsp\;- rezervovaný box vedle DJe- obsluha do boxu&nbsp\;Příchod do podniku musí být před půlnocí!
LOCATION:Uherské Hradiště
END:VEVENT
END:VCALENDAR