BEGIN:VCALENDAR
VERSION:2.0
CALSCALE:GREGORIAN
PRODID:-//MyApp//Calendar 1.0//EN
BEGIN:VEVENT
METHOD:PUBLISH
UID:46576@regionalniportaly.cz
DTSTAMP:20260424T230939Z
DTSTART;VALUE=DATE:20241108
DTEND;VALUE=DATE:20241109
SUMMARY:MANENE | Club No.6
DESCRIPTION:MANENE se opět vrací do Uherského Hradiště!&nbsp\;Support DJs : KHARMA\, SPIKE&nbsp\;Vstup na místě: 250 KčVstup 16+
LOCATION:Uherské Hradiště
END:VEVENT
END:VCALENDAR