BEGIN:VCALENDAR
VERSION:2.0
CALSCALE:GREGORIAN
PRODID:-//MyApp//Calendar 1.0//EN
BEGIN:VEVENT
METHOD:PUBLISH
UID:46809@regionalniportaly.cz
DTSTAMP:20260424T202931Z
DTSTART;VALUE=DATE:20241024
DTEND;VALUE=DATE:20241025
SUMMARY:SLAM Poetry - kvalifikace ČR 2024
DESCRIPTION:"NESTŮJ S POEZIÍ V KOUTĚ\, STAŇ SE MISTREM ČR VE SLAMU!"&nbsp\;Kvalifikační kolo pro Mistrovství ČR ve slam poetry 2024 se po letech vrací do UH\, a kam jinam než do klubu Mír!&nbsp\;Vítěz získává postup do finále\, kde soutěží 12 nejlepších z ČR nejen o titul mistra ČR\, ale také o 30 000 Kč a právo reprezentovat na ME a MS 2025.&nbsp\;Finále mistrovství se uskuteční 7. 12. 2024 v MeetFactory v Praze.Kontakt pro přihlášky: Bob Hýsek - bobhysek@gmail.comNapište své jméno\, slamovou přezdívku a telefonní kontakt.&nbsp\;Limit počtu přihlášených je 15 vystupujících!&nbsp\;Pravidla:1. vlastní texty2. dva výstupy v max. délce 3 min. každý3. žádné rekvizity
LOCATION:Uherské Hradiště
END:VEVENT
END:VCALENDAR