BEGIN:VCALENDAR
VERSION:2.0
CALSCALE:GREGORIAN
PRODID:-//MyApp//Calendar 1.0//EN
BEGIN:VEVENT
METHOD:PUBLISH
UID:47131@regionalniportaly.cz
DTSTAMP:20260425T040102Z
DTSTART;VALUE=DATE:20241203
DTEND;VALUE=DATE:20241204
SUMMARY:Na mašinách přes celou Ameriku (Jitka a Libor Vaďurovi)
DESCRIPTION:Předvánoční beseda - Na mašinách přes celou Ameriku v podání staroměšťáků Libora a Jitky Vaďurových. Ze Santiaga&nbsp\;Ohňovou zemí do nejjižnějšího města světa Ushuaia a přes ledovce\, rovník\, hory a pouště Jižní Amerikou do Kolumbie a na závěr z Panamy přes Mexiko do Chicaga. Ozbrojená přepadení\, útěk z Kolumbijského gheta\, komplikace s technikou\, zadržení policií US&nbsp\;Navy\, ale hlavně úžasní lidé a dechberoucí příroda a zážitky na celý život.Pořadatelem přednášky je spolek MYSLI Jinak.
LOCATION:Staré Město
END:VEVENT
END:VCALENDAR