BEGIN:VCALENDAR
VERSION:2.0
CALSCALE:GREGORIAN
PRODID:-//MyApp//Calendar 1.0//EN
BEGIN:VEVENT
METHOD:PUBLISH
UID:47151@regionalniportaly.cz
DTSTAMP:20260425T021946Z
DTSTART;VALUE=DATE:20241214
DTEND;VALUE=DATE:20241215
SUMMARY:SPS & Dr.Zetor
DESCRIPTION:SPS odehraje svůj poslední letošní koncert v roce 2024&nbsp\; v Uherském Hradišti\,tak si nenech tuhle punkovou legendu ujít.Jako host se představí slovenská kultovní kapela Dr. Zetor&nbsp\;
LOCATION:Uherské Hradiště
END:VEVENT
END:VCALENDAR